BEGIN:VCALENDAR
VERSION:2.0
PRODID:-//Minnesota Christian Writers Guild - ECPv6.15.17//NONSGML v1.0//EN
CALSCALE:GREGORIAN
METHOD:PUBLISH
X-WR-CALNAME:Minnesota Christian Writers Guild
X-ORIGINAL-URL:https://www.mnchristianwriters.com
X-WR-CALDESC:Events for Minnesota Christian Writers Guild
REFRESH-INTERVAL;VALUE=DURATION:PT1H
X-Robots-Tag:noindex
X-PUBLISHED-TTL:PT1H
BEGIN:VTIMEZONE
TZID:America/Chicago
BEGIN:DAYLIGHT
TZOFFSETFROM:-0600
TZOFFSETTO:-0500
TZNAME:CDT
DTSTART:20240310T080000
END:DAYLIGHT
BEGIN:STANDARD
TZOFFSETFROM:-0500
TZOFFSETTO:-0600
TZNAME:CST
DTSTART:20241103T070000
END:STANDARD
BEGIN:DAYLIGHT
TZOFFSETFROM:-0600
TZOFFSETTO:-0500
TZNAME:CDT
DTSTART:20250309T080000
END:DAYLIGHT
BEGIN:STANDARD
TZOFFSETFROM:-0500
TZOFFSETTO:-0600
TZNAME:CST
DTSTART:20251102T070000
END:STANDARD
BEGIN:DAYLIGHT
TZOFFSETFROM:-0600
TZOFFSETTO:-0500
TZNAME:CDT
DTSTART:20260308T080000
END:DAYLIGHT
BEGIN:STANDARD
TZOFFSETFROM:-0500
TZOFFSETTO:-0600
TZNAME:CST
DTSTART:20261101T070000
END:STANDARD
END:VTIMEZONE
BEGIN:VEVENT
DTSTART;TZID=America/Chicago:20251110T190000
DTEND;TZID=America/Chicago:20251110T203000
DTSTAMP:20260424T031544
CREATED:20220819T123459Z
LAST-MODIFIED:20250826T030224Z
UID:4447-1762801200-1762806600@www.mnchristianwriters.com
SUMMARY:Shawn Morrison and Shawn Nielsen | Will You See Me?
DESCRIPTION:In this keynote\, author Shawn challenges us to rethink our assumptions about homelessness. He will share the purpose and process behind his book\, Will You See Me?\, which gives a voice to the unheard. Shawn will take you behind the scenes of conducting interviews at people’s intersections\, revealing the practical steps and uncovering a person’s “why”. He will also discuss his charity\, Good in the ‘Hood\, and his philosophy of changing lives together with simple acts of kindness. He’ll teach us how a simple act of compassionate listening can restore dignity and help us see the humanity in everyone. \nWe will offer a copy of our book\, “Will You SEE Me?” for a suggested donation of $30 or whatever one can afford.  The offerings will be used to purchase additional copies of our book.  We also will have WYSM bookmarks available to purchase and some brochures and information about our nonprofit\, Good in the ‘Hood. \nPresenter Bio: Reverend Shawn Morrison is the Founder and Executive Director for a nonprofit organization called Good in the ‘Hood.  He is a longtime community advocate\, minister\, and nonprofit leader. As the ministry director\, he leads efforts to inspire intentional kindness and provide practical support to those in need. His latest initiative\, “Will You See Me?”\, is a powerful book project that shares the real stories of individuals who panhandle\, aiming to challenge stereotypes and restore dignity. Shawn has served in pastoral leadership\, higher education\, and recovery ministry\, and continues to champion compassionate engagement throughout the Twin Cities. He and his wife Jamie have five children and nineteen grandchildren.   \nMr. Shawn Nielsen is a commercial photographer with a heart.  Shawn is a 36-year veteran photographer with a passion for people. Shawn has a strong interest to create images that reveal the beauty\, strength and fragility of the human spirit. He founded Nielsen Studios\, in Rogers\, Minnesota\, in 2003. In his personal life\, as in the images he creates\, Shawn strives always to make a positive impact in the lives of others. Shawn and his wife\, Cristine\, have four children and two grandchildren. \n\n				\n				\n				\n				\n				\n				\n				\n					$25 Non Member Registration\n				\n			\n\n				\n				\n				\n				\n				\n				\n				\n					BECOME A MEMBER\n				\n			\n000000
URL:https://www.mnchristianwriters.com/meeting/november/
LOCATION:Oak Knoll Lutheran Church\,  600 Hopkins Crossroad\,  Minnetonka\, MN\, 55305\, United States
CATEGORIES:Speakers
ATTACH;FMTTYPE=image/png:https://www.mnchristianwriters.com/wp-content/uploads/2022/08/Nov-1.png
END:VEVENT
END:VCALENDAR