BEGIN:VCALENDAR
VERSION:2.0
PRODID:-//Minnesota Christian Writers Guild - ECPv6.15.17//NONSGML v1.0//EN
CALSCALE:GREGORIAN
METHOD:PUBLISH
X-WR-CALNAME:Minnesota Christian Writers Guild
X-ORIGINAL-URL:https://www.mnchristianwriters.com
X-WR-CALDESC:Events for Minnesota Christian Writers Guild
REFRESH-INTERVAL;VALUE=DURATION:PT1H
X-Robots-Tag:noindex
X-PUBLISHED-TTL:PT1H
BEGIN:VTIMEZONE
TZID:America/Chicago
BEGIN:DAYLIGHT
TZOFFSETFROM:-0600
TZOFFSETTO:-0500
TZNAME:CDT
DTSTART:20240310T080000
END:DAYLIGHT
BEGIN:STANDARD
TZOFFSETFROM:-0500
TZOFFSETTO:-0600
TZNAME:CST
DTSTART:20241103T070000
END:STANDARD
BEGIN:DAYLIGHT
TZOFFSETFROM:-0600
TZOFFSETTO:-0500
TZNAME:CDT
DTSTART:20250309T080000
END:DAYLIGHT
BEGIN:STANDARD
TZOFFSETFROM:-0500
TZOFFSETTO:-0600
TZNAME:CST
DTSTART:20251102T070000
END:STANDARD
BEGIN:DAYLIGHT
TZOFFSETFROM:-0600
TZOFFSETTO:-0500
TZNAME:CDT
DTSTART:20260308T080000
END:DAYLIGHT
BEGIN:STANDARD
TZOFFSETFROM:-0500
TZOFFSETTO:-0600
TZNAME:CST
DTSTART:20261101T070000
END:STANDARD
END:VTIMEZONE
BEGIN:VEVENT
DTSTART;TZID=America/Chicago:20251013T190000
DTEND;TZID=America/Chicago:20251013T203000
DTSTAMP:20260424T091127
CREATED:20230505T015733Z
LAST-MODIFIED:20250826T025106Z
UID:4585-1760382000-1760387400@www.mnchristianwriters.com
SUMMARY:Dr. Hal Baumchen | Living with Intentionality as a Writer
DESCRIPTION:  \nPresenter Bio: Dr. Hal Baumchen is a seasoned clinical psychologist and licensed alcohol and drug counselor with over 30 years of experience in the fields of addiction treatment and mental health. He is the founder of Journey to Recovery\, a comprehensive resource platform designed to support individuals with co-occurring disorders through practical\ntools\, workbooks\, and recovery-focused guidance. \nThroughout his career\, Dr. Baumchen has been dedicated to transforming lives by equipping individuals with skill-building exercises and evidence-based strategies that address both substance use and mental health challenges. \nHe is also the founder and former President and Clinical Director of NorthStar Regional\, a treatment center that has grown to offer over 300 beds for substance use disorder treatment. He recently retired from his role at NorthStar Regional. \nBeyond his clinical work\, Dr. Baumchen has owned and operated Little Tree Properties since 2004—a real estate management company with both residential and commercial\nholdings. \nAs an author\, Dr. Baumchen has contributed several key resources to the recovery community\, including Journeys and Destinations\, and he co-authored Finding Hope Again: Overcoming Depression with Dr. Neil T. Anderson. His writing reflects the insights and practical wisdom gained from decades of counseling\, providing individuals with effective tools for personal growth and emotional well-being. \n\n				\n				\n				\n				\n				\n				\n				\n					$25 Non Member Registration\n				\n			\n\n				\n				\n				\n				\n				\n				\n				\n					BECOME A MEMBER\n				\n			\n000000
URL:https://www.mnchristianwriters.com/meeting/october/
LOCATION:Oak Knoll Lutheran Church\,  600 Hopkins Crossroad\,  Minnetonka\, MN\, 55305\, United States
CATEGORIES:Speakers
ATTACH;FMTTYPE=image/png:https://www.mnchristianwriters.com/wp-content/uploads/2022/08/Oct.png
END:VEVENT
BEGIN:VEVENT
DTSTART;TZID=America/Chicago:20250908T190000
DTEND;TZID=America/Chicago:20250908T203000
DTSTAMP:20260424T091127
CREATED:20220819T123039Z
LAST-MODIFIED:20250826T023857Z
UID:4445-1757358000-1757363400@www.mnchristianwriters.com
SUMMARY:Jonathan Friesen | The Identity of a Writer
DESCRIPTION:Who are you? Really. As Christians we are quick to answer with a biblical answer or offer our occupation. You were created uniquely by a loving Creator. Hearing your identity from him changes everything\, including how you write\, what you write\, and why you write. Come explore the truest thing about you\, and learn how knowing your identity deeply impacts your thoughts\, vanquishes fear\, and brings life to your written words.      \nPresenter Bio:  Jonathan Friesen is an award-winning author\, university professor and international speaker. He is the author of eight novels for teens including Both of Me and the critically acclaimed Unfolding (Blink/HarperCollins\, 2017). His personal experience with Tourette’s and epilepsy inspired him to write the heartfelt novel Jerk\, California (Penguin\, 2008)\, winner of the American Library Association’s Schneider Award—“Best Book for Teens.” A sought-after keynoter\, Jonathan brings his experience and insight to conferences around the world. Jonathan now serves as a Professor of Education at North Central University in Minneapolis\, MN. To learn more about Jonathan Friesen\, visit his website at www.jonathanfriesen.com. \n\n				\n				\n				\n				\n				\n				\n				\n					$25 NON-MEMBER REGISTRATION\n				\n			\n\n				\n				\n				\n				\n				\n				\n				\n					BECOME A MEMBER\n				\n			\n000000
URL:https://www.mnchristianwriters.com/meeting/september/
LOCATION:Oak Knoll Lutheran Church\,  600 Hopkins Crossroad\,  Minnetonka\, MN\, 55305\, United States
CATEGORIES:Speakers
ATTACH;FMTTYPE=image/png:https://www.mnchristianwriters.com/wp-content/uploads/2022/08/Sep-1.png
END:VEVENT
END:VCALENDAR