BEGIN:VCALENDAR
VERSION:2.0
PRODID:-//Minnesota Christian Writers Guild - ECPv6.15.17//NONSGML v1.0//EN
CALSCALE:GREGORIAN
METHOD:PUBLISH
X-WR-CALNAME:Minnesota Christian Writers Guild
X-ORIGINAL-URL:https://www.mnchristianwriters.com
X-WR-CALDESC:Events for Minnesota Christian Writers Guild
REFRESH-INTERVAL;VALUE=DURATION:PT1H
X-Robots-Tag:noindex
X-PUBLISHED-TTL:PT1H
BEGIN:VTIMEZONE
TZID:America/Chicago
BEGIN:DAYLIGHT
TZOFFSETFROM:-0600
TZOFFSETTO:-0500
TZNAME:CDT
DTSTART:20250309T080000
END:DAYLIGHT
BEGIN:STANDARD
TZOFFSETFROM:-0500
TZOFFSETTO:-0600
TZNAME:CST
DTSTART:20251102T070000
END:STANDARD
BEGIN:DAYLIGHT
TZOFFSETFROM:-0600
TZOFFSETTO:-0500
TZNAME:CDT
DTSTART:20260308T080000
END:DAYLIGHT
BEGIN:STANDARD
TZOFFSETFROM:-0500
TZOFFSETTO:-0600
TZNAME:CST
DTSTART:20261101T070000
END:STANDARD
BEGIN:DAYLIGHT
TZOFFSETFROM:-0600
TZOFFSETTO:-0500
TZNAME:CDT
DTSTART:20270314T080000
END:DAYLIGHT
BEGIN:STANDARD
TZOFFSETFROM:-0500
TZOFFSETTO:-0600
TZNAME:CST
DTSTART:20271107T070000
END:STANDARD
END:VTIMEZONE
BEGIN:VEVENT
DTSTART;TZID=America/Chicago:20260112T190000
DTEND;TZID=America/Chicago:20260112T203000
DTSTAMP:20260424T072815
CREATED:20230109T030010Z
LAST-MODIFIED:20251122T220000Z
UID:4518-1768244400-1768249800@www.mnchristianwriters.com
SUMMARY:Jerusha Clark | Exploring New Ways to Write
DESCRIPTION:Synopsis: Most writers begin with what they know\, exploring the themes or stories in their own minds. There are other ways to expand one’s writing abilities\, however\, ways that stretch a writer beyond his or her thoughts and life experiences. In this presentation\, you’ll learn about research-based nonfiction and collaborative writing (formerly known as ghost writing). Your presenter\, Jerusha Clark\, writes in both genres extensively and will guide you through some basics and beyond. \nPresenter Bio: Jerusha Clark is the author\, co-author or collaborative writer of twenty books. She began by co-authored four books\, including three bestsellers\, with her husband\, Jeramy\, prior to launching her own writing and speaking ministry. Through Be Transformed ministry\, Jerusha focuses on helping others glorify and enjoy God\, one thought at a time. On quiet days\, you can find Jerusha reading\, snorkeling\, or bodyboarding at the beach\, her absolute favorite place. Jerusha and Jeramy have two amazing adult daughters and love ministering together at churches\, retreats\, schools\, conferences\, and as shepherds to pastors and ministry leaders through Standing Stone Ministry. \nEvent Cost: $25 for non-members \n000000
URL:https://www.mnchristianwriters.com/meeting/january/
LOCATION:Oak Knoll Lutheran Church\,  600 Hopkins Crossroad\,  Minnetonka\, MN\, 55305\, United States
CATEGORIES:Speakers
ATTACH;FMTTYPE=image/png:https://www.mnchristianwriters.com/wp-content/uploads/2023/01/Jan-1.png
END:VEVENT
BEGIN:VEVENT
DTSTART;TZID=America/Chicago:20260209T190000
DTEND;TZID=America/Chicago:20260209T203000
DTSTAMP:20260424T072815
CREATED:20230109T025409Z
LAST-MODIFIED:20251122T221409Z
UID:4515-1770663600-1770669000@www.mnchristianwriters.com
SUMMARY:The AI Advantage | Jason Sisam
DESCRIPTION:*Can you spot how much of this was written by AI vs how much was written by me? — I’ll be asking the night I speak. \nSynopsis: We are living in the age of “Knight Rider”—artificial intelligence is here to stay\, transforming every aspect of our lives from creative work to everyday tasks. This session is a deep dive into how podcasters\, writers\, and content creators can strategically leverage tools like Google Gemini and ChatGPT to supercharge their output without sacrificing their unique voice. \nWe explore AI as a powerful brainstorming and organizational tool\, demonstrating how to use it for tight outlines\, compelling descriptions\, and content repurposing (even generating a song from show notes!). However\, we provide crucial warnings against skill erosion and over-reliance\, emphasizing that high-quality output depends solely on high-quality human input. Learn to master the tools\, maintain human oversight\, perform fact-checking\, and navigate the ethical minefields of deep fakes and data privacy. \nThe takeaway? AI is not a replacement\, but an accelerator. Use it wisely to move forward\, not backward\, making your message clearer and your job easier. \nPresenter Bio: Jason (J. B.) Sisam is the bestselling author of Divine Moments\, a moving narrative that blends sports drama with profound themes of family\, faith\, and survival. As an ordained pastor and licensed financial advisor\, Jason’s message is built on two decades of ministry and practical experience. As the President of the Minnesota Christian Writer’s Guild\, his passion is to help others find clarity and purpose. Jason powerfully equips audiences to find their voice\, write their stories\, and succeed in life\, delivering the practical motivation necessary to achieve their God-given potential in family\, ministry\, and business. \n Website:   https://jasonsisam.com \nEvent Cost: $25 for non-members \n000000
URL:https://www.mnchristianwriters.com/meeting/february/
LOCATION:Oak Knoll Lutheran Church\,  600 Hopkins Crossroad\,  Minnetonka\, MN\, 55305\, United States
CATEGORIES:Speakers
ATTACH;FMTTYPE=image/png:https://www.mnchristianwriters.com/wp-content/uploads/2023/01/Feb.png
END:VEVENT
BEGIN:VEVENT
DTSTART;TZID=America/Chicago:20260309T190000
DTEND;TZID=America/Chicago:20260309T203000
DTSTAMP:20260424T072815
CREATED:20230108T225612Z
LAST-MODIFIED:20251122T221636Z
UID:4511-1773082800-1773088200@www.mnchristianwriters.com
SUMMARY:Storytelling and the Gospel | Karen Ingle
DESCRIPTION:Synopsis: From “the greatest story ever told” comes a storytelling framework as universal as the cosmos and as unique as you. Writers of virtually any story can use this familiar framework to decide what to include\, what to leave out\, and next steps to take toward getting your story told.      \nPresenter Bio:  Karen Ingle enjoys raising chickens\, teaching\, and writing. Especially writing. She is a freelance writer\, editor\, and ghostwriter\, as well as the author of a slow-growing series of novels based on true stories of women facing life-and-death choices for their unborn children. In the course of her research and many interviews\, Karen has discovered that human stories possess beautiful uniqueness alongside astonishing similarity. Now she’s excited to pass on some of the insights that will help you write the story that is uniquely yours. \nKaren’s Website: https://kareninglefreelance.com \nCost of this event is $25 for non members \n000000
URL:https://www.mnchristianwriters.com/meeting/abc-night/
LOCATION:Oak Knoll Lutheran Church\,  600 Hopkins Crossroad\,  Minnetonka\, MN\, 55305\, United States
CATEGORIES:Speakers
ATTACH;FMTTYPE=image/png:https://www.mnchristianwriters.com/wp-content/uploads/2023/01/Mar-2.png
END:VEVENT
BEGIN:VEVENT
DTSTART;TZID=America/Chicago:20260413T190000
DTEND;TZID=America/Chicago:20260413T203000
DTSTAMP:20260424T072815
CREATED:20230126T032757Z
LAST-MODIFIED:20251122T222703Z
UID:4532-1776106800-1776112200@www.mnchristianwriters.com
SUMMARY:Joel Warne | INSIDE MOVES: Inner Life Writing for Small Groups
DESCRIPTION:Synopsis: Once\, in a dream\, a woman saw an immense logjam clogging a river. The jumbled logs stretched for miles\, locked against each other at crazy angles. God asked the dreamer\, “How are we going to free these logs?” She replied doubtfully\, “I guess we need to untangle them so they face the same direction.” God said\, “I have a different idea.” The next moment\, the level of the water began to rise—and carried the heap away.  Anxieties\, yearnings and pain exist in a tangle in each human heart like private logjams. As Christian writers\, we address the tangle. Where do we find words that speak of deep places in God’s Spirit where painful knots are soothed and undone? How can our writing move beyond religious chatter toward becoming a well of refreshment that saturates and buoys lives in Christ? This presentation will ponder the writer’s craft of drawing words from deep places\, with a special emphasis on shaping them into resources that help small groups glimpse new\, life-giving possibilities in God.      \nPresenter Bio:  Joel Warne is the author of refreshing inner life resources and co-founder of WellSpring Life Resources. A teacher\, spiritual director and retreat leader\, Joel helps groups explore paths to transforming daily life with God. He’s the author of small group and personal resources including: “Soul Craving: An Invitation to the Feast\,” “How to Eat Your Bible: God’s Word as Food for Your Soul\,” and his most recent group resource\, “Inside Moves: Falling\, Rising\, Becoming.” Joel and his wife\, Gerri\, a Therapist and WellSpring co-founder\, live in Plymouth\, Minnesota. \nJoel’s website: https://wellrefreshed.com \nCost of the Event $25 for non-members \n000000
URL:https://www.mnchristianwriters.com/meeting/april/
LOCATION:Oak Knoll Lutheran Church\,  600 Hopkins Crossroad\,  Minnetonka\, MN\, 55305\, United States
CATEGORIES:Speakers
ATTACH;FMTTYPE=image/png:https://www.mnchristianwriters.com/wp-content/uploads/2023/01/Apr-1.png
END:VEVENT
BEGIN:VEVENT
DTSTART;TZID=America/Chicago:20260511T190000
DTEND;TZID=America/Chicago:20260511T203000
DTSTAMP:20260424T072815
CREATED:20220829T015307Z
LAST-MODIFIED:20251122T223114Z
UID:4458-1778526000-1778531400@www.mnchristianwriters.com
SUMMARY:Multi-Author Collections – How to collaborate without losing your mind.
DESCRIPTION:Synopsis:  A panel of seasoned authors who have collaborated many times in collections\, addressing the challenges and rewards and taking questions from the audience. Moderated by Erica Vetsch     \nErica Vetsch: Best-selling\, award-winning author Erica Vetsch loves Jesus\, history\, romance\, and sports. When she’s not writing fiction\, she’s planning her next trip to a history museum. You can connect with her at her website\, www.ericavetsch.com and you can find her on Facebook at The Inspirational Regency Readers Group where she spends way too much time! Her website is https://ericavetsch.com \nStacy Monson: Stacy Monson is the author of the award-winning Chain of Lakes series and is a founding member of The Mosaic Collection. She lives outside the Twin Cities metro area with 15 chickens\, an old dog\, and lots of wildlife (which includes 7 grandchildren). Her website is https://stacymonson.com \nCost of this event is $25 for non-members \n000000
URL:https://www.mnchristianwriters.com/meeting/may/
LOCATION:Oak Knoll Lutheran Church\,  600 Hopkins Crossroad\,  Minnetonka\, MN\, 55305\, United States
CATEGORIES:Panel
ATTACH;FMTTYPE=image/png:https://www.mnchristianwriters.com/wp-content/uploads/2022/08/May-1.png
END:VEVENT
END:VCALENDAR